BEGIN:VCALENDAR
VERSION:2.0
PRODID:-//ARC ANGELS - ECPv6.15.20//NONSGML v1.0//EN
CALSCALE:GREGORIAN
METHOD:PUBLISH
X-ORIGINAL-URL:https://arcangelsfoundation.org
X-WR-CALDESC:Events for ARC ANGELS
REFRESH-INTERVAL;VALUE=DURATION:PT1H
X-Robots-Tag:noindex
X-PUBLISHED-TTL:PT1H
BEGIN:VTIMEZONE
TZID:UTC
BEGIN:STANDARD
TZOFFSETFROM:+0000
TZOFFSETTO:+0000
TZNAME:UTC
DTSTART:20240101T000000
END:STANDARD
END:VTIMEZONE
BEGIN:VEVENT
DTSTART;TZID=UTC:20250907T064500
DTEND;TZID=UTC:20250907T150000
DTSTAMP:20260425T193538
CREATED:20250501T172351Z
LAST-MODIFIED:20250625T215905Z
UID:2147-1757227500-1757257200@arcangelsfoundation.org
SUMMARY:Golf Scramble
DESCRIPTION:
URL:https://arcangelsfoundation.org/event/golf-scramble/
LOCATION:The Courses at Forest Park\, 6141 Lagoon Dr.\, St. Louis\, MO\, 63112\, United States
ATTACH;FMTTYPE=image/jpeg:https://arcangelsfoundation.org/wp-content/uploads/2025/05/1750888688007-5d87ebf4-0e8c-474b-aabd-ad9c4e745f35_1.jpg
END:VEVENT
BEGIN:VEVENT
DTSTART;TZID=UTC:20260421T080000
DTEND;TZID=UTC:20260421T140000
DTSTAMP:20260425T193538
CREATED:20260118T211600Z
LAST-MODIFIED:20260119T223258Z
UID:2179-1776758400-1776780000@arcangelsfoundation.org
SUMMARY:A.R.C. Angels 2nd Annual Charity Golf Scramble
DESCRIPTION:Click Here to Purchase Tickets and for Additional Information
URL:https://arcangelsfoundation.org/event/a-r-c-angels-2nd-annual-charity-golf-scramble/
LOCATION:Whitmoor Country Club\, 1100 Whitmoor Drive\, St. Charles\, 63304\, United States
END:VEVENT
BEGIN:VEVENT
DTSTART;TZID=UTC:20260918T170000
DTEND;TZID=UTC:20260918T200000
DTSTAMP:20260425T193538
CREATED:20260321T195206Z
LAST-MODIFIED:20260321T195452Z
UID:2198-1789750800-1789761600@arcangelsfoundation.org
SUMMARY:Wine\, Beer\, and Bourbon Tasting
DESCRIPTION:
URL:https://arcangelsfoundation.org/event/wine-beer-and-bourbon-tasting/
LOCATION:Frankie Martin’s Garden\, 5372 Saint Charles Street\, Cottleville\, 63304\, United States
CATEGORIES:Community,Events,Food,Music,Outreach
END:VEVENT
END:VCALENDAR